BEGIN:VCALENDAR
VERSION:2.0
PRODID:-//Menlo Park Neighborhood Association - ECPv6.15.1.1//NONSGML v1.0//EN
CALSCALE:GREGORIAN
METHOD:PUBLISH
X-WR-CALNAME:Menlo Park Neighborhood Association
X-ORIGINAL-URL:https://menloparktucson.org
X-WR-CALDESC:Events for Menlo Park Neighborhood Association
REFRESH-INTERVAL;VALUE=DURATION:PT1H
X-Robots-Tag:noindex
X-PUBLISHED-TTL:PT1H
BEGIN:VTIMEZONE
TZID:America/Phoenix
BEGIN:STANDARD
TZOFFSETFROM:-0700
TZOFFSETTO:-0700
TZNAME:MST
DTSTART:20240101T000000
END:STANDARD
END:VTIMEZONE
BEGIN:VEVENT
DTSTART;TZID=America/Phoenix:20240601T100000
DTEND;TZID=America/Phoenix:20240601T130000
DTSTAMP:20260424T155916
CREATED:20240514T183121Z
LAST-MODIFIED:20240517T003454Z
UID:14749-1717236000-1717246800@menloparktucson.org
SUMMARY:Menlo Park Neighborhood Plan Open House
DESCRIPTION:The Menlo Park Neighborhood Plan Steering Committee will present the DRAFT Vision\, Goals\, Policies\, Future Land Use Map\, and Future Land Use Definitions to the neighborhood at the Open House on June 1\, 2024\, from 10:00 a.m. to 1:00 p.m. at the YWCA of Southern Arizona. \nMenlo Park Neighborhood Plan Open House information: \nFocus: to review draft Vision\, Goals\, Policies\, Future Land Use Map\, and Future Land Use Definitions \nDate: June 1\, 2024\nTime: 10 am to 1:00 pm \nPlace: YWCA of Southern Arizona\, 525 N Bonita Avenue\, Menlo Park\, Tucson\, Arizona \nFREE parking\, kid activities\, refreshments and raffles! \nThe Neighborhood Plan includes policy and goals for housing; heritage\, historic preservation; transportation\, connectivity and mobility; parks\, recreation\, open space and environment; economic development; and public facilities and services.
URL:https://menloparktucson.org/event/menlo-park-neighborhood-plan-open-house-2/
LOCATION:YWCA of Southern Arizona\, 525 N Bonita Ave\, Tucson\, AZ\, 85745\, United States
CATEGORIES:Events
END:VEVENT
BEGIN:VEVENT
DTSTART;TZID=America/Phoenix:20240613T180000
DTEND;TZID=America/Phoenix:20240613T193000
DTSTAMP:20260424T155916
CREATED:20240514T184659Z
LAST-MODIFIED:20240514T184659Z
UID:14756-1718301600-1718307000@menloparktucson.org
SUMMARY:June MPNA Meeting
DESCRIPTION:Our regular monthly MPNA meeting will take place on Thursday\, June 13th at 6pm inside the Sentinel-Sabino Conference Room at 320 N. Commerce Park Loop. \nA Zoom link will be provided prior to the meeting for hybrid participation. To receive meeting notices including agendas and Zoom links\, please send an email to menloparktucson@gmail.com and ask to be added to the list. \n  \n 
URL:https://menloparktucson.org/event/june-mpna-meeting/
LOCATION:Sentinel Building\, 320 N. Commerce Park Loop\, Tucson
CATEGORIES:Neighborhood Meeting
END:VEVENT
END:VCALENDAR