BEGIN:VCALENDAR
VERSION:2.0
PRODID:-//Menlo Park Neighborhood Association - ECPv6.15.1.1//NONSGML v1.0//EN
CALSCALE:GREGORIAN
METHOD:PUBLISH
X-ORIGINAL-URL:https://menloparktucson.org
X-WR-CALDESC:Events for Menlo Park Neighborhood Association
REFRESH-INTERVAL;VALUE=DURATION:PT1H
X-Robots-Tag:noindex
X-PUBLISHED-TTL:PT1H
BEGIN:VTIMEZONE
TZID:America/Phoenix
BEGIN:STANDARD
TZOFFSETFROM:-0700
TZOFFSETTO:-0700
TZNAME:MST
DTSTART:20230101T000000
END:STANDARD
END:VTIMEZONE
BEGIN:VEVENT
DTSTART;TZID=America/Phoenix:20231012T180000
DTEND;TZID=America/Phoenix:20231012T193000
DTSTAMP:20260425T042154
CREATED:20230925T144357Z
LAST-MODIFIED:20230925T144357Z
UID:14705-1697133600-1697139000@menloparktucson.org
SUMMARY:MPNA October Meeting
DESCRIPTION:MPNA meets every 2nd Thursday of the month at 6pm. This month the meeting will take place at the Sentinel Building conerence room\, 320 N Commerce Park Loop
URL:https://menloparktucson.org/event/mpna-october-meeting/
LOCATION:Sentinel Building\, 320 N. Commerce Park Loop\, Tucson
CATEGORIES:Neighborhood Meeting
END:VEVENT
BEGIN:VEVENT
DTSTART;TZID=America/Phoenix:20231015T090000
DTEND;TZID=America/Phoenix:20231015T100000
DTSTAMP:20260425T042154
CREATED:20231011T155519Z
LAST-MODIFIED:20231011T155520Z
UID:14712-1697360400-1697364000@menloparktucson.org
SUMMARY:Menlo Park Adopt-A-Park Clean-Up
DESCRIPTION:Join your neighbors for a monthly Menlo Park clean-up\, every third Sunday at 9am. We meet at the northwest corner of the park near the exercise equipment and bathrooms. Bring a water bottle\, sun hat\, and gloves. Trash grabbers and bags will be provided.
URL:https://menloparktucson.org/event/menlo-park-adopt-a-park-clean-up/
LOCATION:Menlo Park\, 325 N. Grande Ave.\, Tucson\, Arizona\, 85745
CATEGORIES:Events
ATTACH;FMTTYPE=image/png:https://menloparktucson.org/wp-content/uploads/2023/10/Menlo-Park-Clean-Up-1.png
END:VEVENT
END:VCALENDAR