BEGIN:VCALENDAR
VERSION:2.0
PRODID:-//Menlo Park Neighborhood Association - ECPv6.15.1.1//NONSGML v1.0//EN
CALSCALE:GREGORIAN
METHOD:PUBLISH
X-WR-CALNAME:Menlo Park Neighborhood Association
X-ORIGINAL-URL:https://menloparktucson.org
X-WR-CALDESC:Events for Menlo Park Neighborhood Association
REFRESH-INTERVAL;VALUE=DURATION:PT1H
X-Robots-Tag:noindex
X-PUBLISHED-TTL:PT1H
BEGIN:VTIMEZONE
TZID:America/Phoenix
BEGIN:STANDARD
TZOFFSETFROM:-0700
TZOFFSETTO:-0700
TZNAME:MST
DTSTART:20220101T000000
END:STANDARD
END:VTIMEZONE
BEGIN:VEVENT
DTSTART;TZID=America/Phoenix:20240127T080000
DTEND;TZID=America/Phoenix:20240127T140000
DTSTAMP:20260423T151635
CREATED:20240117T190406Z
LAST-MODIFIED:20240117T190406Z
UID:14726-1706342400-1706364000@menloparktucson.org
SUMMARY:Yard Sale
DESCRIPTION:Menlo Park Yard Sale Save the Date: Saturday January 27th\, 8am to 2pm. \nFill out the short online survey here to volunteer\, reserve a table\, and participate.
URL:https://menloparktucson.org/event/yard-sale/
LOCATION:901 & 905 W. Congress St.\, 901 & 905 W. Congress St.\, Tucson\, az
ORGANIZER;CN="Menlo Park Neighborhood Association":MAILTO:menloparktucson@gmail.com
END:VEVENT
BEGIN:VEVENT
DTSTART;TZID=America/Phoenix:20231214T180000
DTEND;TZID=America/Phoenix:20231214T193000
DTSTAMP:20260423T151635
CREATED:20230925T144808Z
LAST-MODIFIED:20230925T144808Z
UID:14709-1702576800-1702582200@menloparktucson.org
SUMMARY:MPNA December Meeting
DESCRIPTION:MPNA meets every 2nd Thursday of the month at 6pm. This month the meeting will take place at the Menlo Park Elementary School\, 1100 W. Fresno St.
URL:https://menloparktucson.org/event/mpna-december-meeting/
LOCATION:Menlo Park Elementary School\, 1100 W. Fresno St\, Tucson\, AZ\, 85745\, United States
CATEGORIES:Neighborhood Meeting
END:VEVENT
BEGIN:VEVENT
DTSTART;TZID=America/Phoenix:20231109T180000
DTEND;TZID=America/Phoenix:20231109T193000
DTSTAMP:20260423T151635
CREATED:20230925T144708Z
LAST-MODIFIED:20230925T144708Z
UID:14707-1699552800-1699558200@menloparktucson.org
SUMMARY:MPNA November Meeting
DESCRIPTION:MPNA meets every 2nd Thursday of the month at 6pm. This month the meeting will take place at the Menlo Park Elementary School\, 1100 W. Fresno St.
URL:https://menloparktucson.org/event/mpna-november-meeting/
LOCATION:Menlo Park Elementary School\, 1100 W. Fresno St\, Tucson\, AZ\, 85745\, United States
CATEGORIES:Neighborhood Meeting
END:VEVENT
BEGIN:VEVENT
DTSTART;TZID=America/Phoenix:20231015T090000
DTEND;TZID=America/Phoenix:20231015T100000
DTSTAMP:20260423T151635
CREATED:20231011T155519Z
LAST-MODIFIED:20231011T155520Z
UID:14712-1697360400-1697364000@menloparktucson.org
SUMMARY:Menlo Park Adopt-A-Park Clean-Up
DESCRIPTION:Join your neighbors for a monthly Menlo Park clean-up\, every third Sunday at 9am. We meet at the northwest corner of the park near the exercise equipment and bathrooms. Bring a water bottle\, sun hat\, and gloves. Trash grabbers and bags will be provided.
URL:https://menloparktucson.org/event/menlo-park-adopt-a-park-clean-up/
LOCATION:Menlo Park\, 325 N. Grande Ave.\, Tucson\, Arizona\, 85745
CATEGORIES:Events
ATTACH;FMTTYPE=image/png:https://menloparktucson.org/wp-content/uploads/2023/10/Menlo-Park-Clean-Up-1.png
END:VEVENT
BEGIN:VEVENT
DTSTART;TZID=America/Phoenix:20231012T180000
DTEND;TZID=America/Phoenix:20231012T193000
DTSTAMP:20260423T151635
CREATED:20230925T144357Z
LAST-MODIFIED:20230925T144357Z
UID:14705-1697133600-1697139000@menloparktucson.org
SUMMARY:MPNA October Meeting
DESCRIPTION:MPNA meets every 2nd Thursday of the month at 6pm. This month the meeting will take place at the Sentinel Building conerence room\, 320 N Commerce Park Loop
URL:https://menloparktucson.org/event/mpna-october-meeting/
LOCATION:Sentinel Building\, 320 N. Commerce Park Loop\, Tucson
CATEGORIES:Neighborhood Meeting
END:VEVENT
BEGIN:VEVENT
DTSTART;TZID=America/Phoenix:20230922T173000
DTEND;TZID=America/Phoenix:20230922T203000
DTSTAMP:20260423T151635
CREATED:20230919T000350Z
LAST-MODIFIED:20230919T000452Z
UID:14665-1695403800-1695414600@menloparktucson.org
SUMMARY:Movie Night in Menlo Park with Free Ice Cream & Bike Repair
DESCRIPTION:Friday\, September 22\, 2023\, 5:30 to 8:30 PM\, Menlo Park 325 N. Grande Ave. (near the playground) join us for a movie screening of Luca\, starts at 6:45 PM. \nBring a picnic blanket or a chair and enjoy the evening. \nLiving Streets Alliance is supporting City of Tucson’s Department of Transportation and Mobility to improve our streets and community engagement. Activities are scheduled this month to inform the Menlo Park\, El Rio-Dragoon\, Golden Hills\, and Ontario Mecedora Bike Boulevard projects. These will create a total of 4 Interconnected Bicycle Boulevards along low-volume neighborhood streets supported by traffic-calming measures such as speed humps\, traffic circles\, push button\, crossings\, sustainable landscaping\, and reduced speed limits. \nIf you walk\, bike\, roll\, or live in any of these project areas on the west side\, we invite you to come out\, learn more about the proposed improvements and to share your thoughts with the City of Tucson project team
URL:https://menloparktucson.org/event/movie-night-in-menlo-park-with-free-ice-cream-bike-repair/
LOCATION:Menlo Park\, 325 N. Grande Ave.\, Tucson\, Arizona\, 85745
CATEGORIES:Events
ATTACH;FMTTYPE=image/png:https://menloparktucson.org/wp-content/uploads/2023/09/Menlo-Park-Movie-Night.png
END:VEVENT
BEGIN:VEVENT
DTSTART;TZID=America/Phoenix:20230624T180000
DTEND;TZID=America/Phoenix:20230624T220000
DTSTAMP:20260423T151635
CREATED:20230605T210123Z
LAST-MODIFIED:20230605T210505Z
UID:14658-1687629600-1687644000@menloparktucson.org
SUMMARY:25th Annual Día de San Juan Fiesta
DESCRIPTION:Saturday June 24\, 6:00 – 10:00pm \nSan Juan Day celebrates the birthday of John the Baptist. In Tucson it is a day to celebrate the coming of the summer rains. \n  \nOver two decades ago the celebration was revived in Tucson by the Menlo Park Neighborhood Association. This year it will again be held in and around Mission Garden. \n  \nThere will be food vendors. Information tables will be available and there will be music from a DJ. The Mission Garden gift shop will be open featuring all our great products. Come take part in this traditional Tucson celebration and enjoy the garden setting in the evening!
URL:https://menloparktucson.org/event/25th-annual-dia-de-san-juan-fiesta/
LOCATION:Mission Garden\, 946 W Mission Ln\, Tucson\, AZ\, 85745
CATEGORIES:Events
ATTACH;FMTTYPE=image/png:https://menloparktucson.org/wp-content/uploads/2023/06/DDSJ_IG.png
END:VEVENT
BEGIN:VEVENT
DTSTART;TZID=America/Phoenix:20230608T180000
DTEND;TZID=America/Phoenix:20230608T193000
DTSTAMP:20260423T151635
CREATED:20230605T204405Z
LAST-MODIFIED:20230605T204405Z
UID:14656-1686247200-1686252600@menloparktucson.org
SUMMARY:MPNA June Meeting - at the Sentinel Building
DESCRIPTION:Monthly meeting of the full Menlo Park Neighborhood Association\, to meet at the Sentinel Building conference room\, 310 N Commerce Park Loop and on Zoom: \n  \nTopic: MPNA’s June Zoom Meeting\nTime: Jun 8\, 2023 05:30 PM Arizona \nJoin Zoom Meeting\nhttps://us06web.zoom.us/j/81188869013?pwd=OWovblAzZ00xcitJZGdLNVN0QW8wdz09 \nMeeting ID: 811 8886 9013\nPasscode: 919300
URL:https://menloparktucson.org/event/mpna-june-meeting-at-the-sentinel-building/
LOCATION:Sentinel Building\, 320 N. Commerce Park Loop\, Tucson
CATEGORIES:Events,Neighborhood Meeting
END:VEVENT
BEGIN:VEVENT
DTSTART;TZID=America/Phoenix:20230511T180000
DTEND;TZID=America/Phoenix:20230511T193000
DTSTAMP:20260423T151635
CREATED:20230428T182223Z
LAST-MODIFIED:20230428T182223Z
UID:14649-1683828000-1683833400@menloparktucson.org
SUMMARY:MPNA May Meeting
DESCRIPTION:Monthly Menlo Park Neighborhood Association Meeting at Menlo Park Elementary School Cafeteria\, 1100 W Fresno St.
URL:https://menloparktucson.org/event/mpna-may-meeting/
LOCATION:Menlo Park Elementary School\, 1100 W. Fresno St\, Tucson\, AZ\, 85745\, United States
CATEGORIES:Events,Neighborhood Meeting
ORGANIZER;CN="Menlo Park Neighborhood Association":MAILTO:menloparktucson@gmail.com
END:VEVENT
BEGIN:VEVENT
DTSTART;TZID=America/Phoenix:20230503T173000
DTEND;TZID=America/Phoenix:20230503T190000
DTSTAMP:20260423T151635
CREATED:20230428T181702Z
LAST-MODIFIED:20230428T181702Z
UID:14644-1683135000-1683140400@menloparktucson.org
SUMMARY:Neighborhood Plan Steering Committee Meeting
DESCRIPTION:
URL:https://menloparktucson.org/event/neighborhood-plan-steering-committee-meeting-2/
LOCATION:AZ
CATEGORIES:Committee Meeting,Events
END:VEVENT
BEGIN:VEVENT
DTSTART;TZID=America/Phoenix:20230501T173000
DTEND;TZID=America/Phoenix:20230501T190000
DTSTAMP:20260423T151635
CREATED:20230428T172753Z
LAST-MODIFIED:20230428T172753Z
UID:14642-1682962200-1682967600@menloparktucson.org
SUMMARY:MPNA Executive Committee Meeting
DESCRIPTION:The Executive Committee consists of all elected or appointed members of the Board and meets typically 2 weeks to 10 days before the monthly neighborhood meeting to set the agenda and discuss any upcoming items or issues. \nIf you would like to send the Board an item for the agenda\, please email us at menloparktucson@gmail.com
URL:https://menloparktucson.org/event/mpna-executive-committee-meeting/
LOCATION:AZ
CATEGORIES:Events
END:VEVENT
BEGIN:VEVENT
DTSTART;TZID=America/Phoenix:20230430T180000
DTEND;TZID=America/Phoenix:20230430T210000
DTSTAMP:20260423T151635
CREATED:20230428T172525Z
LAST-MODIFIED:20230428T172525Z
UID:14640-1682877600-1682888400@menloparktucson.org
SUMMARY:West Side Stories - LAST NIGHT!
DESCRIPTION:WEST SIDE STORIES is a theatrical festival celebrating Tucson’s west side heritage and cultural pride. Offering audiences\, a chance to eat alfresco with loved ones\, check out an interactive game show\, engage in a heritage talk circle\, walk through an augmented reality installation and experience a local story told through shadow box installations. All of that before the play begins! \nWest Side Stories is written by Veronica Weatherbie with contributions by Patricia Preciado Martin\, Milta Ortiz\, Silviana Wood and Marc David Pinate\, edited by Milta Ortiz and directed by Borderlands Theater Ensemble \nThursday- Sunday April 20th-30th\, 2023\nPre-show Picnic and Activities start at 6:00 pm\nMain Stage Show 7:45 pm\nChoose what you pay\nBonita Park\n20 N Bonita Ave\, Tucson\nFun for all ages! : This is a no alcohol event. \nOnline reservations encouraged. http://bit.ly/3J8DSQQ First come first serve. Free parking available in Bonita Ave lots. Accessible by bus lines 21 & 22. \nPlease contact our office for accessibility accommodations (520)276-9598. \nClick here for more information on West Side Stories ! \nWhat To Bring:\nLawn Chairs\nBlankets\nPicnic Dinner\nIce Chests\nWater
URL:https://menloparktucson.org/event/west-side-stories-last-night/
LOCATION:Bonita Park\, 20 N Bonita Ave\, Tucson\, AZ\, 85745
CATEGORIES:Events
END:VEVENT
BEGIN:VEVENT
DTSTART;TZID=America/Phoenix:20230429T180000
DTEND;TZID=America/Phoenix:20230429T210000
DTSTAMP:20260423T151635
CREATED:20230428T172310Z
LAST-MODIFIED:20230428T172310Z
UID:14637-1682791200-1682802000@menloparktucson.org
SUMMARY:West Side Stories
DESCRIPTION:WEST SIDE STORIES is a theatrical festival celebrating Tucson’s west side heritage and cultural pride. Offering audiences\, a chance to eat alfresco with loved ones\, check out an interactive game show\, engage in a heritage talk circle\, walk through an augmented reality installation and experience a local story told through shadow box installations. All of that before the play begins! \nWest Side Stories is written by Veronica Weatherbie with contributions by Patricia Preciado Martin\, Milta Ortiz\, Silviana Wood and Marc David Pinate\, edited by Milta Ortiz and directed by Borderlands Theater Ensemble \nThursday- Sunday April 20th-30th\, 2023\nPre-show Picnic and Activities start at 6:00 pm\nMain Stage Show 7:45 pm\nChoose what you pay\nBonita Park\n20 N Bonita Ave\, Tucson\nFun for all ages! : This is a no alcohol event. \nOnline reservations encouraged. http://bit.ly/3J8DSQQ First come first serve. Free parking available in Bonita Ave lots. Accessible by bus lines 21 & 22. \nPlease contact our office for accessibility accommodations (520)276-9598. \nClick here for more information on West Side Stories ! \nWhat To Bring:\nLawn Chairs\nBlankets\nPicnic Dinner\nIce Chests\nWater
URL:https://menloparktucson.org/event/west-side-stories-3/
LOCATION:Bonita Park\, 20 N Bonita Ave\, Tucson\, AZ\, 85745
CATEGORIES:Events
END:VEVENT
BEGIN:VEVENT
DTSTART;TZID=America/Phoenix:20230429T160000
DTEND;TZID=America/Phoenix:20230429T180000
DTSTAMP:20260423T151635
CREATED:20230428T182011Z
LAST-MODIFIED:20230428T182011Z
UID:14646-1682784000-1682791200@menloparktucson.org
SUMMARY:Casa Linda Pizza Party + Bicycle Boulevard Outreach
DESCRIPTION:Mural Restoration\, Clean-Up and PIZZA PARTY\, with FREE bike repair and information about neighborhood traffic calming coming to Menlo Park\, Saturday\, April 29th\, 4-6pm\, 17 N Linda Ave. 🍕🚲 \nJoin us to provide feedback on the plans for a Bicycle Boulevard\, bring your bike for a free repair\, bring your favorite pizza topping for wood-fired pizza in the adobe horno\, and bring your littles for the jumping castle 🏰 \nFor more information on the traffic calming project: https://tucsondelivers.tucsonaz.gov/pages/menlo or contact: Collin Chesston\, Collin.Chesston@tucsonaz.gov (520) 305- 0254 \nWant to help clean and restore the mural at Casa Linda on Saturday morning? Contact David Walker\, (520) 334-0550
URL:https://menloparktucson.org/event/casa-linda-pizza-party-bicycle-boulevard-outreach/
LOCATION:Casa Linda\, 17 N Linda Ave\, Tucson\, AZ\, 85745
CATEGORIES:Events
END:VEVENT
BEGIN:VEVENT
DTSTART;TZID=America/Phoenix:20230428T180000
DTEND;TZID=America/Phoenix:20230428T210000
DTSTAMP:20260423T151635
CREATED:20230428T171922Z
LAST-MODIFIED:20230428T171922Z
UID:14634-1682704800-1682715600@menloparktucson.org
SUMMARY:West Side Stories
DESCRIPTION:WEST SIDE STORIES is a theatrical festival celebrating Tucson’s west side heritage and cultural pride. Offering audiences\, a chance to eat alfresco with loved ones\, check out an interactive game show\, engage in a heritage talk circle\, walk through an augmented reality installation and experience a local story told through shadow box installations. All of that before the play begins! \nWest Side Stories is written by Veronica Weatherbie with contributions by Patricia Preciado Martin\, Milta Ortiz\, Silviana Wood and Marc David Pinate\, edited by Milta Ortiz and directed by Borderlands Theater Ensemble \nThursday- Sunday April 20th-30th\, 2023\nPre-show Picnic and Activities start at 6:00 pm\nMain Stage Show 7:45 pm\nChoose what you pay\nBonita Park\n20 N Bonita Ave\, Tucson\nFun for all ages! : This is a no alcohol event. \nOnline reservations encouraged. http://bit.ly/3J8DSQQ First come first serve. Free parking available in Bonita Ave lots. Accessible by bus lines 21 & 22. \nPlease contact our office for accessibility accommodations (520)276-9598. \nClick here for more information on West Side Stories ! \nWhat To Bring:\nLawn Chairs\nBlankets\nPicnic Dinner\nIce Chests\nWater
URL:https://menloparktucson.org/event/west-side-stories-2/
LOCATION:Bonita Park\, 20 N Bonita Ave\, Tucson\, AZ\, 85745
CATEGORIES:Events
END:VEVENT
BEGIN:VEVENT
DTSTART;TZID=America/Phoenix:20230311T090000
DTEND;TZID=America/Phoenix:20230311T120000
DTSTAMP:20260423T151635
CREATED:20230302T012745Z
LAST-MODIFIED:20230302T012745Z
UID:14605-1678525200-1678536000@menloparktucson.org
SUMMARY:Menlo Park Neighborhood Plan Open House
DESCRIPTION:  \n \n  \n 
URL:https://menloparktucson.org/event/menlo-park-neighborhood-plan-open-house/
LOCATION:YWCA of Southern Arizona\, 525 N Bonita Ave\, Tucson\, AZ\, 85745\, United States
END:VEVENT
BEGIN:VEVENT
DTSTART;TZID=America/Phoenix:20230219T080000
DTEND;TZID=America/Phoenix:20230219T100000
DTSTAMP:20260423T151635
CREATED:20230216T174810Z
LAST-MODIFIED:20230216T174810Z
UID:14595-1676793600-1676800800@menloparktucson.org
SUMMARY:Santa Cruz River Clean-Up
DESCRIPTION:Mission Lane and the Santa Cruz River (Just east of the Main Entrance to Mission Garden). Make a difference in our precious water flow! Help keep the water clean for wildlife: Tucson Clean and Beautiful Community Restoration Manager\, Angel Breault. Hot coffee\, donuts\, empanadas and information on river history provided by Mission Garden. Wear closed toe shoes\, sun protection\, hat.
URL:https://menloparktucson.org/event/santa-cruz-river-clean-up/
LOCATION:Santa Cruz River Park at Mission Lane
CATEGORIES:Events
END:VEVENT
BEGIN:VEVENT
DTSTART;TZID=America/Phoenix:20230218T100000
DTEND;TZID=America/Phoenix:20230218T160000
DTSTAMP:20260423T151635
CREATED:20230216T172832Z
LAST-MODIFIED:20230216T172832Z
UID:14592-1676714400-1676736000@menloparktucson.org
SUMMARY:Black & Brown Health Fair
DESCRIPTION:Join us at the Black and Brown Health Fair on Saturday\, Feb\, 18 at the Donna Liggins Center. There will be free health services including: vaccines\, STI/HIV screenings\, dental care\, glucose screenings\, mammograms\, and blood pressure checks. \nMore info: https://www.facebook.com/photo/?fbid=499423239032080&set=a.211659657808441
URL:https://menloparktucson.org/event/black-brown-health-fair/
LOCATION:Donna Liggins Community Recreation Center\, 2160 N 6th Ave\, Tucson\, AZ\, 85705
CATEGORIES:Events
END:VEVENT
BEGIN:VEVENT
DTSTART;TZID=America/Phoenix:20230212T080000
DTEND;TZID=America/Phoenix:20230212T100000
DTSTAMP:20260423T151635
CREATED:20230210T205901Z
LAST-MODIFIED:20230210T205901Z
UID:14589-1676188800-1676196000@menloparktucson.org
SUMMARY:A Mountain Buffel Grass Pull
DESCRIPTION:🌵 The neighborhood will provide empanadas and coffee for everyone who shows up and pulls!  Meet at the lower A Mountain parking lot at 7:45am  – wear long pants\, long sleeved shirt\, closed toed shoes suitable for standing and walking on a steep rocky slope\, and BRING GLOVES.  Tools will be available\,  but if you have a favorite weeding tool of your own\, bring it. 🌵
URL:https://menloparktucson.org/event/a-mountain-buffel-grass-pull/
LOCATION:Sentinel Peak Park\, 1001 S. Sentinel Peak Rd.\, Tucson\, Arizona\, 85745
CATEGORIES:Events
END:VEVENT
BEGIN:VEVENT
DTSTART;TZID=America/Phoenix:20230210T180000
DTEND;TZID=America/Phoenix:20230210T200000
DTSTAMP:20260423T151635
CREATED:20230210T205625Z
LAST-MODIFIED:20230210T205625Z
UID:14586-1676052000-1676059200@menloparktucson.org
SUMMARY:¡Fiesta Manzo!
DESCRIPTION: 🎉 Carnival\, Games\, Mariachi Performances\, Music\, Food. Tickets available for purchase. \nBarrio Hollywood\, 855 N Melrose Ave. 🎉🥳
URL:https://menloparktucson.org/event/fiesta-manzo/
LOCATION:Manzo Elementary School\, 855 N Melrose Ave\, Tucson\, Arizona\, 85745
CATEGORIES:Events
END:VEVENT
BEGIN:VEVENT
DTSTART;TZID=America/Phoenix:20230209T180000
DTEND;TZID=America/Phoenix:20230209T193000
DTSTAMP:20260423T151635
CREATED:20230208T024539Z
LAST-MODIFIED:20230208T024539Z
UID:14583-1675965600-1675971000@menloparktucson.org
SUMMARY:Menlo Park Neighborhood meeting
DESCRIPTION:February Menlo Park Neighborhood Association \nThursday\, February 9th\, 6pm – Menlo Park Elementary School\, 1100 W. Fresno St.  \n\nYou won’t want to miss it! We have exciting updates from the Yard Sale\, announcements for future events\, and many ways for you to get involved in neighborhood activities in the coming weeks.
URL:https://menloparktucson.org/event/menlo-park-neighborhood-meeting-2/
LOCATION:Menlo Park Elementary School\, 1100 W. Fresno St\, Tucson\, AZ\, 85745\, United States
CATEGORIES:Events,Neighborhood Meeting
ORGANIZER;CN="Menlo Park Neighborhood Association":MAILTO:menloparktucson@gmail.com
END:VEVENT
BEGIN:VEVENT
DTSTART;TZID=America/Phoenix:20230128T080000
DTEND;TZID=America/Phoenix:20230128T140000
DTSTAMP:20260423T151635
CREATED:20230120T014353Z
LAST-MODIFIED:20230120T014353Z
UID:14579-1674892800-1674914400@menloparktucson.org
SUMMARY:Menlo Park NA Yard Sale
DESCRIPTION:We are raising money for neighborhood improvements! \n\nSign up HERE to help volunteer or to sell at the Yard Sale\, coming up on January 28th\, 8am to 2pm\, at the intersection of Congress Ave. and Melwood St.\nPlease help spread the word!
URL:https://menloparktucson.org/event/menlo-park-na-yard-sale/
LOCATION:Yard Sale\, 843 W Congress St\, Tucson\, AZ\, 85745\, United States
END:VEVENT
BEGIN:VEVENT
DTSTART;TZID=America/Phoenix:20221208T180000
DTEND;TZID=America/Phoenix:20221208T193000
DTSTAMP:20260423T151635
CREATED:20221203T034813Z
LAST-MODIFIED:20221203T034813Z
UID:14575-1670522400-1670527800@menloparktucson.org
SUMMARY:MPNA Neighborhood Meeting
DESCRIPTION:Our next Menlo Park Neighborhood Association Meeting will be at the Menlo Park Elementary School cafeteria. \nThe proposed changes to the Menlo Park Neighborhood boundaries will be discussed. A map is attached below to illustrate where the changes are proposed. This change is proposed in partnership with Barrio Kroeger Lane Neighborhood Association who has been in close communication with MPNA for many meetings. \nHoliday Potluck \nPlease bring a dish to share. Plan to join us a little early for conversation and to share food before we begin the meeting at 6pm. (We are mindful of covid-19 rates and encourage masks when not eating. We may also need to change plans if circumstances change dramatically.) \nWe will also introduce the Sharing Table. If you have elementary school-aged children you might know about the Sharing Table already. Please bring any unused\, unopened food\, toiletries\, or gently used items you are ready to pass on. If you’ve got a few things you’ve been meaning to donate to the thrift store\, bring it to the Sharing Table first to see if a neighbor could use it. Take what you need\, leave what you don’t. At the end of the evening anything left on the Sharing Table will be boxed up and donated. \nHope to see you all there next week. \nKylie Walzak\, President
URL:https://menloparktucson.org/event/mpna-neighborhood-meeting/
LOCATION:Menlo Park Elementary School\, 1100 W. Fresno St\, Tucson\, AZ\, 85745\, United States
CATEGORIES:Neighborhood Meeting
ORGANIZER;CN="Menlo Park Neighborhood Association":MAILTO:menloparktucson@gmail.com
END:VEVENT
BEGIN:VEVENT
DTSTART;TZID=America/Phoenix:20221110T060000
DTEND;TZID=America/Phoenix:20221110T193000
DTSTAMP:20260423T151635
CREATED:20221102T191130Z
LAST-MODIFIED:20221102T191144Z
UID:14570-1668060000-1668108600@menloparktucson.org
SUMMARY:MPNA Neighborhood Meeting
DESCRIPTION:We will be meeting at Sentinel Building at Housing and Community Development for November’s Menlo Park Neighborhood Association\n\nAGENDA FORTHCOMING
URL:https://menloparktucson.org/event/monthly-neighborhood-meeting/
LOCATION:Sentinel Building\, 320 N. Commerce Park Loop\, Tucson
CATEGORIES:Neighborhood Meeting
ORGANIZER;CN="Menlo Park Neighborhood Association":MAILTO:menloparktucson@gmail.com
END:VEVENT
BEGIN:VEVENT
DTSTART;TZID=America/Phoenix:20221102T173000
DTEND;TZID=America/Phoenix:20221102T183000
DTSTAMP:20260423T151635
CREATED:20221027T140528Z
LAST-MODIFIED:20221027T141728Z
UID:14567-1667410200-1667413800@menloparktucson.org
SUMMARY:Neighborhood Plan - Focus Group with Small Business Owners
DESCRIPTION:As part of the Menlo Park Neighborhood Plan owners of small businesses and home businesses located in Menlo Park are invited to a Conversation/Focus Group With Small Business Owners.  \nSmall Business Owners Discussion Topics:\n• Why did you locate in Menlo Park?\n• What are your business’s needs and challenges?\n• What other issues are important to you? \nSmall Business Focus Group Flier Final RSVP Link English \nRegister Here (English) \nSmall Business Focus Group Flier Final RSVP Link Spanish \nRegister Here (Spanish)
URL:https://menloparktucson.org/event/neighborhood-plan-focus-group-with-small-business-owners-nov-2/
LOCATION:YWCA of Southern Arizona\, 525 N Bonita Ave\, Tucson\, AZ\, 85745\, United States
CATEGORIES:Events
END:VEVENT
BEGIN:VEVENT
DTSTART;TZID=America/Phoenix:20221101T090000
DTEND;TZID=America/Phoenix:20221101T100000
DTSTAMP:20260423T151635
CREATED:20221027T140320Z
LAST-MODIFIED:20221027T141631Z
UID:14563-1667293200-1667296800@menloparktucson.org
SUMMARY:Neighborhood Plan - Focus Group with Small Business Owners
DESCRIPTION:As part of the Menlo Park Neighborhood Plan owners of small businesses and home businesses located in Menlo Park are invited to a Conversation/Focus Group With Small Business Owners.  \nSmall Business Owners Discussion Topics:\n• Why did you locate in Menlo Park?\n• What are your business’s needs and challenges?\n• What other issues are important to you? \nSmall Business Focus Group Flier Final RSVP Link English \nRegister Here (English) \nSmall Business Focus Group Flier Final RSVP Link Spanish \nRegister Here (Spanish)
URL:https://menloparktucson.org/event/neighborhood-plan-focus-group-with-small-business-owners-nov-1/
LOCATION:YWCA of Southern Arizona\, 525 N Bonita Ave\, Tucson\, AZ\, 85745\, United States
CATEGORIES:Events
END:VEVENT
BEGIN:VEVENT
DTSTART;TZID=America/Phoenix:20221013T060000
DTEND;TZID=America/Phoenix:20221013T193000
DTSTAMP:20260423T151635
CREATED:20221013T002215Z
LAST-MODIFIED:20221027T135116Z
UID:14547-1665640800-1665689400@menloparktucson.org
SUMMARY:Monthly Neighborhood Meeting
DESCRIPTION:Looking forward to gathering for this month’s Neighborhood Association meeting\, this Thursday at the Sentinel Building at 6pm\, 320 N. Commerce Park Loop. \nWe will cover the items in the attached agenda. Minutes also attached for review. \nMPNA Agenda 10-13-22 \nMenloParkMeetingMinutes \n—\nKylie Walzak\, President \nMenlo Park Neighborhood Association\nWebsite: menloparktucson.org\nLike us on Facebook: http://www.facebook.com/menloparktucson\nmenloparktucson@gmail.com
URL:https://menloparktucson.org/event/14547/
LOCATION:Sentinel Building\, 320 N. Commerce Park Loop\, Tucson
CATEGORIES:Neighborhood Meeting
END:VEVENT
BEGIN:VEVENT
DTSTART;TZID=America/Phoenix:20220811T180000
DTEND;TZID=America/Phoenix:20220811T193000
DTSTAMP:20260423T151635
CREATED:20220807T220635Z
LAST-MODIFIED:20220811T143608Z
UID:14525-1660240800-1660246200@menloparktucson.org
SUMMARY:Neighborhood Meeting
DESCRIPTION:Join us on August 11 for our monthly Neighborhood Association meeting from 6pm-7:30pm\, at the Old Menlo Park School on 1100 W. Fresno \nDownload agenda \nMinutes also attached for review and passage. \nWe’ll see you there! \n 
URL:https://menloparktucson.org/event/neighborhood-meeting-3/
LOCATION:Menlo Park Elementary School\, 1100 W. Fresno St\, Tucson\, AZ\, 85745\, United States
CATEGORIES:Neighborhood Meeting
END:VEVENT
BEGIN:VEVENT
DTSTART;TZID=America/Phoenix:20220714T180000
DTEND;TZID=America/Phoenix:20220714T193000
DTSTAMP:20260423T151635
CREATED:20220706T050911Z
LAST-MODIFIED:20220706T050911Z
UID:14487-1657821600-1657827000@menloparktucson.org
SUMMARY:Menlo Park Neighborhood Association Meeting
DESCRIPTION:We will see you at 6pm Thursday\, July 14th for our monthly neighborhood meeting\, at the Sentinel Building\, 320 N. Commerce Park Loop. \nWe met at this location in May and will continue to meet here during the summer months when the Menlo School is closed. \nWe hope to have a Westmoreland affordable housing update\, will have a parks update on the Garden of Gethsemane improvements\, our usual TPD update and more!
URL:https://menloparktucson.org/event/menlo-park-neighborhood-association-meeting/
LOCATION:Sentinel Building\, 320 N. Commerce Park Loop\, Tucson
END:VEVENT
BEGIN:VEVENT
DTSTART;TZID=America/Phoenix:20220624T173000
DTEND;TZID=America/Phoenix:20220624T210000
DTSTAMP:20260423T151635
CREATED:20220609T142242Z
LAST-MODIFIED:20220622T190020Z
UID:14480-1656091800-1656104400@menloparktucson.org
SUMMARY:El Dia de San Juan Celebration
DESCRIPTION:The Dia de San Juan Celebration begins at 5:30 pm at Mission Gardens.\nThere will be a blessing\, dignitaries\, food trucks\, entertainment\, children’s activities\, and community resources. This is growing garden which produces food from our historical origins. \n\nWalk or bicycle to the Garden from downtown or the streetcar.\nLimited parking. The Streetcar stop is on Cushing St.\, just a short walk away\, down Melwood Avenue.\nBring a flashlight/cell phone to light your path in the Garden.\nBe mindful of the plants and trees and stay on the paths.\nMasks suggested. Social Distancing encouraged.\nCOVID-19 Vaccines and Boosters will be available.\nNo pets except registered service dogs.\nNo alcohol will be served.
URL:https://menloparktucson.org/event/el-dia-de-san-juan-celebration/
LOCATION:Mission Gardens Ramada\, 946 W Mission Lane\, Tucson\, AZ\, United States
CATEGORIES:Events
END:VEVENT
END:VCALENDAR