BEGIN:VCALENDAR
VERSION:2.0
PRODID:-//Menlo Park Neighborhood Association - ECPv6.15.1.1//NONSGML v1.0//EN
CALSCALE:GREGORIAN
METHOD:PUBLISH
X-ORIGINAL-URL:https://menloparktucson.org
X-WR-CALDESC:Events for Menlo Park Neighborhood Association
REFRESH-INTERVAL;VALUE=DURATION:PT1H
X-Robots-Tag:noindex
X-PUBLISHED-TTL:PT1H
BEGIN:VTIMEZONE
TZID:America/Phoenix
BEGIN:STANDARD
TZOFFSETFROM:-0700
TZOFFSETTO:-0700
TZNAME:MST
DTSTART:20260101T000000
END:STANDARD
END:VTIMEZONE
BEGIN:VEVENT
DTSTART;TZID=America/Phoenix:20260405T080000
DTEND;TZID=America/Phoenix:20260405T100000
DTSTAMP:20260423T164636
CREATED:20260329T211117Z
LAST-MODIFIED:20260329T211117Z
UID:14856-1775376000-1775383200@menloparktucson.org
SUMMARY:Melwood Community Garden Work Day
DESCRIPTION:
URL:https://menloparktucson.org/event/melwood-community-garden-work-day/
LOCATION:El Rio Community Garden\, 34 N Melwood Ave\, Tucson\, AZ\, 85745\, United States
CATEGORIES:Events
END:VEVENT
BEGIN:VEVENT
DTSTART;TZID=America/Phoenix:20260409T180000
DTEND;TZID=America/Phoenix:20260409T193000
DTSTAMP:20260423T164636
CREATED:20260329T210929Z
LAST-MODIFIED:20260329T210929Z
UID:14854-1775757600-1775763000@menloparktucson.org
SUMMARY:April MPNA Meeting
DESCRIPTION:This meeting is scheduled to be held at 320 N Commerce Park Loop and begins at 6pm. \nFor agendas and meeting minutes\, send an email to: menloparktucson@gmail.com
URL:https://menloparktucson.org/event/april-mpna-meeting/
LOCATION:Sentinel Building\, 320 N. Commerce Park Loop\, Tucson
CATEGORIES:Neighborhood Meeting
END:VEVENT
BEGIN:VEVENT
DTSTART;TZID=America/Phoenix:20260418T100000
DTEND;TZID=America/Phoenix:20260418T130000
DTSTAMP:20260423T164636
CREATED:20260329T211743Z
LAST-MODIFIED:20260329T211743Z
UID:14858-1776506400-1776517200@menloparktucson.org
SUMMARY:Menlo Park Spring Fiesta
DESCRIPTION:RSVP to the Spring Fiesta HERE
URL:https://menloparktucson.org/event/menlo-park-spring-fiesta/
LOCATION:Menlo Park\, 325 N. Grande Ave.\, Tucson\, Arizona\, 85745
ATTACH;FMTTYPE=image/png:https://menloparktucson.org/wp-content/uploads/2026/03/Menlo-Park-Spring-Fiesta-2026.png
END:VEVENT
END:VCALENDAR