BEGIN:VCALENDAR
VERSION:2.0
PRODID:-//Menlo Park Neighborhood Association - ECPv6.15.1.1//NONSGML v1.0//EN
CALSCALE:GREGORIAN
METHOD:PUBLISH
X-ORIGINAL-URL:https://menloparktucson.org
X-WR-CALDESC:Events for Menlo Park Neighborhood Association
REFRESH-INTERVAL;VALUE=DURATION:PT1H
X-Robots-Tag:noindex
X-PUBLISHED-TTL:PT1H
BEGIN:VTIMEZONE
TZID:America/Phoenix
BEGIN:STANDARD
TZOFFSETFROM:-0700
TZOFFSETTO:-0700
TZNAME:MST
DTSTART:20190101T000000
END:STANDARD
END:VTIMEZONE
BEGIN:VEVENT
DTSTART;TZID=America/Phoenix:20221110T060000
DTEND;TZID=America/Phoenix:20221110T193000
DTSTAMP:20260423T141959
CREATED:20221102T191130Z
LAST-MODIFIED:20221102T191144Z
UID:14570-1668060000-1668108600@menloparktucson.org
SUMMARY:MPNA Neighborhood Meeting
DESCRIPTION:We will be meeting at Sentinel Building at Housing and Community Development for November’s Menlo Park Neighborhood Association\n\nAGENDA FORTHCOMING
URL:https://menloparktucson.org/event/monthly-neighborhood-meeting/
LOCATION:Sentinel Building\, 320 N. Commerce Park Loop\, Tucson
CATEGORIES:Neighborhood Meeting
ORGANIZER;CN="Menlo Park Neighborhood Association":MAILTO:menloparktucson@gmail.com
END:VEVENT
BEGIN:VEVENT
DTSTART;TZID=America/Phoenix:20221013T060000
DTEND;TZID=America/Phoenix:20221013T193000
DTSTAMP:20260423T141959
CREATED:20221013T002215Z
LAST-MODIFIED:20221027T135116Z
UID:14547-1665640800-1665689400@menloparktucson.org
SUMMARY:Monthly Neighborhood Meeting
DESCRIPTION:Looking forward to gathering for this month’s Neighborhood Association meeting\, this Thursday at the Sentinel Building at 6pm\, 320 N. Commerce Park Loop. \nWe will cover the items in the attached agenda. Minutes also attached for review. \nMPNA Agenda 10-13-22 \nMenloParkMeetingMinutes \n—\nKylie Walzak\, President \nMenlo Park Neighborhood Association\nWebsite: menloparktucson.org\nLike us on Facebook: http://www.facebook.com/menloparktucson\nmenloparktucson@gmail.com
URL:https://menloparktucson.org/event/14547/
LOCATION:Sentinel Building\, 320 N. Commerce Park Loop\, Tucson
CATEGORIES:Neighborhood Meeting
END:VEVENT
BEGIN:VEVENT
DTSTART;TZID=America/Phoenix:20220811T180000
DTEND;TZID=America/Phoenix:20220811T193000
DTSTAMP:20260423T141959
CREATED:20220807T220635Z
LAST-MODIFIED:20220811T143608Z
UID:14525-1660240800-1660246200@menloparktucson.org
SUMMARY:Neighborhood Meeting
DESCRIPTION:Join us on August 11 for our monthly Neighborhood Association meeting from 6pm-7:30pm\, at the Old Menlo Park School on 1100 W. Fresno \nDownload agenda \nMinutes also attached for review and passage. \nWe’ll see you there! \n 
URL:https://menloparktucson.org/event/neighborhood-meeting-3/
LOCATION:Menlo Park Elementary School\, 1100 W. Fresno St\, Tucson\, AZ\, 85745\, United States
CATEGORIES:Neighborhood Meeting
END:VEVENT
BEGIN:VEVENT
DTSTART;TZID=America/Phoenix:20220609T060000
DTEND;TZID=America/Phoenix:20220609T193000
DTSTAMP:20260423T141959
CREATED:20220414T032616Z
LAST-MODIFIED:20220609T142013Z
UID:14440-1654754400-1654803000@menloparktucson.org
SUMMARY:June Neighborhood Meeting
DESCRIPTION:Upcoming will be discussions on affordable housing at Westmoreland\, a Garden of Gethsemane update\, important news around our Dia de San Juan celebration later this month\, and more.\n\nThank you for your ongoing participation in making this neighborhood a great place to live!\n\nMPNA Agenda 6-09-22\n\nMeeting minutes for approval – April\n\nMeeting minutes for approval – May
URL:https://menloparktucson.org/event/june-neighborhood-meeting/
LOCATION:Sentinel Building\, 320 N. Commerce Park Loop\, Tucson
CATEGORIES:Events,Neighborhood Meeting
END:VEVENT
BEGIN:VEVENT
DTSTART;TZID=America/Phoenix:20220512T180000
DTEND;TZID=America/Phoenix:20220512T193000
DTSTAMP:20260423T141959
CREATED:20220414T031534Z
LAST-MODIFIED:20220414T031534Z
UID:14437-1652378400-1652383800@menloparktucson.org
SUMMARY:May Neighborhood Meeting
DESCRIPTION:Agenda to come
URL:https://menloparktucson.org/event/may-neighborhood-meeting/
LOCATION:Menlo Park Elementary School\, 1100 W. Fresno St\, Tucson\, AZ\, 85745\, United States
CATEGORIES:Neighborhood Meeting
END:VEVENT
BEGIN:VEVENT
DTSTART;TZID=America/Phoenix:20220511T053000
DTEND;TZID=America/Phoenix:20220511T183000
DTSTAMP:20260423T141959
CREATED:20220414T032737Z
LAST-MODIFIED:20220414T032737Z
UID:14442-1652247000-1652293800@menloparktucson.org
SUMMARY:May Neighborhood Plan Committe Meeting
DESCRIPTION:Agenda TBD
URL:https://menloparktucson.org/event/may-neighborhood-plan-committe-meeting/
CATEGORIES:Neighborhood Meeting
END:VEVENT
BEGIN:VEVENT
DTSTART;TZID=America/Phoenix:20220507T083000
DTEND;TZID=America/Phoenix:20220507T120000
DTSTAMP:20260423T141959
CREATED:20220501T000710Z
LAST-MODIFIED:20220501T000856Z
UID:14445-1651912200-1651924800@menloparktucson.org
SUMMARY:Menlo Park Neighborhood Plan Workshop
DESCRIPTION:At this special workshop\, the Neighborhood Planning Committee is seeking neighbors visions and ideas for the furture of Menlo Park. \nWe will be discussing these topics \n\nHeritage\, historic preservation\nHousing\nTransportation\, connectivity and mobility\nParks\, recreation\, open space and environment\nEconomic development\n\nFree Parking\, Food/Refreshments and Raffle prizes! \n 
URL:https://menloparktucson.org/event/menlo-park-neighborhood-plan-workshop/
LOCATION:Sentinel Building\, 320 N. Commerce Park Loop\, Tucson
CATEGORIES:Events,Neighborhood Meeting
END:VEVENT
BEGIN:VEVENT
DTSTART;TZID=America/Phoenix:20220414T180000
DTEND;TZID=America/Phoenix:20220414T193000
DTSTAMP:20260423T141959
CREATED:20220414T031342Z
LAST-MODIFIED:20220414T031720Z
UID:14432-1649959200-1649964600@menloparktucson.org
SUMMARY:April Neighborhood Meeting
DESCRIPTION:We’re looking forward to seeing many of you on Thursday for our monthly MPNA meeting (6pm-8pm\, 1100 W. Fresno). As you can see from the agenda attached\, we are covering a number of important topics\, from homelessness to a new skatepark.\n\nDRAFT MPNA Agenda 4-14-22\n\nIf you are concerned about\, or have questions about\, the growing homelessness issue in Tucson and in Menlo\, this will be a meeting you want to attend to get answers and info. \n\nPer Pima County\, which ranks current COVID Risk as “Low\,” masks/social distancing will be recommended but not required at this meeting. \n\nFinally\, please put on your calendars a neighborhood workshop / taller\, on Saturday May 7 at 9:00am. This will be a neighborhood-wide\, in-depth conversation on elements of our neighborhood plan including Heritage\, Character\, Sense of Place; Housing; Transportation\, Connectivity\, Mobility; Parks\, Recreation\, Open Space\, Environment; Economic Development and more. More will be shared at tomorrow’s meeting\, but please put this on your calendar to participate! 
URL:https://menloparktucson.org/event/14432/
LOCATION:Menlo Park Elementary School\, 1100 W. Fresno St\, Tucson\, AZ\, 85745\, United States
CATEGORIES:Neighborhood Meeting
END:VEVENT
BEGIN:VEVENT
DTSTART;TZID=America/Phoenix:20220212T110000
DTEND;TZID=America/Phoenix:20220212T130000
DTSTAMP:20260423T141959
CREATED:20220104T020736Z
LAST-MODIFIED:20220211T031735Z
UID:14363-1644663600-1644670800@menloparktucson.org
SUMMARY:Menlo Park Neighborhood Picnic in the Park
DESCRIPTION:Join us for a Picnic in Menlo Park! \nWe will be holding our Annual election\, a special drawing\, a potluck style picnic\, celebrating our Vecinos ambassadors\, and the following will be there too: \n– the Pima County REACH Program\n– Pima County Dept of Environmental Quality will be handing out bike lights and other swag\n– a Mobile Health Unit offering vaccinations to any and all comers ++++$50 gift cards to give away*\n– a Ready/Set/Rec! van will provide games for kiddos to play\n– the Planning Center will be there collecting information for the Neighborhood Plan\n– and more! \nThere may be a few MORE tables there from Pima County Health Dept for various things. \nOur goal is to spend the majority of the time together\, hanging out\, seeing old friends and neighbors\, enjoying good food\, and celebrating our work together in the neighborhood! \n\nIf you are able to bring a food or drink item\, please email wendysterner@gmail.com to coordinate!\n\n*Gift card details\nThe gift cards are regular Visa gift cards that can be used anywhere gift cards are accepted. Cards are available to 12 years of age and up\, but anyone under 18 years of age would need a parent or guardian to sign for receipt of the card.  Avaialable to those getting their 1st\, 2nd and boosters vaccines. The information we collect is basic; address\, zip code\, what dose and what vaccine they received and signature saying they understand that the gift card cannot be used or traded for prohibited items. We have 50 $50 gift cards to give away.
URL:https://menloparktucson.org/event/menlo-park-neighborhood-picnic-in-the-park/
LOCATION:Menlo Park\, 325 N. Grande Ave.\, Tucson\, Arizona\, 85745
CATEGORIES:Neighborhood Meeting
ORGANIZER;CN="Menlo Park Neighborhood Association":MAILTO:menloparktucson@gmail.com
END:VEVENT
BEGIN:VEVENT
DTSTART;TZID=America/Phoenix:20220113T180000
DTEND;TZID=America/Phoenix:20220113T193000
DTSTAMP:20260423T141959
CREATED:20220113T161524Z
LAST-MODIFIED:20220113T161524Z
UID:14372-1642096800-1642102200@menloparktucson.org
SUMMARY:January Neighborhood Meeting
DESCRIPTION:Hello Neighbors! \nAttached the agenda for January’s neighborhood meeting\, and the draft minutes from last month for approval. Some timely updates\, and also an opportunity to help the Board think through strategic priorities for the neighborhood in ’22! That and more inside. \nMPNA Agenda 12-9-21 \nMPNA Minutes 12-09-21 \nWe will be hosting the meeting at the Old Menlo Park School\, 1100 W. Fresno\, at 6pm\, masks required and seating socially distanced. Zoom link below for those who feel more comfortable participating this way. \nJoin Zoom Meeting \nhttps://us02web.zoom.us/j/2584447783 \nMeeting ID: 258 444 7783 \nDial by your location \n+1 669 900 6833 US (San Jose) \n  \nThanks\,\n—\n \n\n\n\n\n\n\nZach Yentzer\, President\nMenlo Park Neighborhood Association\nLike us on Facebook: http://www.facebook.com/menloparktucson
URL:https://menloparktucson.org/event/january-neighborhood-meeting/
LOCATION:Menlo Park Elementary School\, 1100 W. Fresno St\, Tucson\, AZ\, 85745\, United States
CATEGORIES:Neighborhood Meeting
END:VEVENT
BEGIN:VEVENT
DTSTART;TZID=America/Phoenix:20211213T173000
DTEND;TZID=America/Phoenix:20211213T190000
DTSTAMP:20260423T141959
CREATED:20211209T042553Z
LAST-MODIFIED:20211209T042553Z
UID:14353-1639416600-1639422000@menloparktucson.org
SUMMARY:Menlo Park Neighborhood Plan Steering Committee
DESCRIPTION:The Steering Committee meeting scheduled for Monday\, December 13\, 5:30 to 7:00 pm\, will be a hybrid meeting with the in-person option at the Ward 1 Council Office\, 940 W. Alameda Street and virtual option via Zoom. \nCOVID safety precautions require that no more than 15 people are in the Ward 1 meeting room at once and that everybody wears a mask.
URL:https://menloparktucson.org/event/menlo-park-neighborhood-plan-steering-committee/
LOCATION:Ward 1 Council Office\, 940 W. Alameda Street\, Tucson\, Arizona
CATEGORIES:Committee Meeting,Neighborhood Meeting
END:VEVENT
BEGIN:VEVENT
DTSTART;TZID=America/Phoenix:20211209T180000
DTEND;TZID=America/Phoenix:20211209T193000
DTSTAMP:20260423T141959
CREATED:20211209T041155Z
LAST-MODIFIED:20211209T041155Z
UID:14348-1639072800-1639078200@menloparktucson.org
SUMMARY:Menlo Park Neighborhood Meeting
DESCRIPTION:Hello neighbors\, \nOur December neighborhood meeting will be in-person at Old Menlo Park School (1100 W. Fresno). Seating will be social distanced\, masks will be required for this meeting. \nAs we work with the City of Tucson and The Planning Center on the neighborhood-wide survey process we’ve embarked on as part of our neighborhood planning efforts\, we’re beginning to hear what are the issues\, concerns\, and desires of our neighborhood for the future. We’ll get a preview of those results from Maria Masque from The Planning Center! \nGil Fimbres\, who has served as one of our two appointees to the Board representing Barrio Sin Nombre\, is stepping away after many terms of service to our neighborhood over the years. I will present my nomination for his replacement\, for your vote. \nWe will also have time to speak with our TPD representative Lt. Morales about current events and issues. \nDownload the draft agenda and draft November meeting minutes. \nThanks and see you soon! \n—\nZach Yentzer\, President \nMenlo Park Neighborhood Association\nLike us on Facebook
URL:https://menloparktucson.org/event/menlo-park-neighborhood-meeting/
LOCATION:Menlo Park Elementary School\, 1100 W. Fresno St\, Tucson\, AZ\, 85745\, United States
CATEGORIES:Events,Neighborhood Meeting
END:VEVENT
BEGIN:VEVENT
DTSTART;TZID=America/Phoenix:20211118T180000
DTEND;TZID=America/Phoenix:20211118T193000
DTSTAMP:20260423T141959
CREATED:20211103T184435Z
LAST-MODIFIED:20211118T143927Z
UID:14330-1637258400-1637263800@menloparktucson.org
SUMMARY:Neighborhood Meeting
DESCRIPTION:Good morning neighbors\, \nLooking forward to seeing many of you at our monthly neighborhood meeting on November 18. Please see draft agenda here. \nFor purposes of the election\, this meeting will be ONLY in-person\, at the old Menlo Park School\, 1100 W. Fresno. Masks will be required\, and we will have enough space for social distancing. We will have light finger food and drink with COVID safety in mind\, and a gift card drawing! \nWe will hold our annual Board elections for the year (a slate will be presented\, and nominations can also be made on the floor for any position)\, hear from Lt. Morales from TPD for a safety update and listening session\, hear initial results from our neighborhood surveying about what neighbors think about Menlo Park and want for its future\, and more. New Tucson Councilmember Kevin Dahl will join us at another meeting in the future. \nThank you and see you soon! \nZach Yentzer\, President \nMenlo Park Neighborhood Association
URL:https://menloparktucson.org/event/neighborhood-meeting-2/
LOCATION:Menlo Park Elementary School\, 1100 W. Fresno St\, Tucson\, AZ\, 85745\, United States
CATEGORIES:Events,Neighborhood Meeting
ORGANIZER;CN="Menlo Park Neighborhood Association":MAILTO:menloparktucson@gmail.com
END:VEVENT
BEGIN:VEVENT
DTSTART;TZID=America/Phoenix:20210812T180000
DTEND;TZID=America/Phoenix:20210812T193000
DTSTAMP:20260423T141959
CREATED:20210812T014955Z
LAST-MODIFIED:20210812T015147Z
UID:14279-1628791200-1628796600@menloparktucson.org
SUMMARY:August Monthly Meeting
DESCRIPTION:Join us on Zoom for the August meeting. Download agenda here. \nhttps://us02web.zoom.us/j/2584447783 \nMeeting ID: 258 444 7783 \nOne tap mobile \n+16699006833\,\,2584447783# US (San Jose) \n+12532158782\,\,2584447783# US (Tacoma) \nDial by your location \n+1 669 900 6833 US (San Jose) \nMeeting ID: 258 444 7783
URL:https://menloparktucson.org/event/august-monthly-meeting/
CATEGORIES:Neighborhood Meeting
END:VEVENT
BEGIN:VEVENT
DTSTART;TZID=America/Phoenix:20210513T180000
DTEND;TZID=America/Phoenix:20210513T190000
DTSTAMP:20260423T141959
CREATED:20210425T024807Z
LAST-MODIFIED:20210512T193111Z
UID:14212-1620928800-1620932400@menloparktucson.org
SUMMARY:May 2021 Menlo Park Neighborhood Association Meeting
DESCRIPTION:Good evening neighbors\, \nPlan to join us this Thursday from 6pm-7:30pm for our monthly neighborhood meeting. See draft agenda below – it’s pretty meaty!\, with guest speaker County Attorney Laura Conover\, multiple presentations on affordable housing and accessory dwelling units\, big transportation/infrastructure updates\, and much more. \nWe will have both a Zoom option\, and in-person\, at the old Menlo Park school\, 1100 W. Fresno (masked and socially distanced).\nSee the agenda and zoom link info here \nReach out with any questions/thoughts ahead of time\, and see you soon\,
URL:https://menloparktucson.org/event/may-2021-menlo-park-neighborhood-association-meeting/
LOCATION:Menlo Park Elementary School\, 1100 W. Fresno St\, Tucson\, AZ\, 85745\, United States
CATEGORIES:Neighborhood Meeting
ORGANIZER;CN="Menlo Park Neighborhood Association":MAILTO:menloparktucson@gmail.com
END:VEVENT
BEGIN:VEVENT
DTSTART;TZID=America/Phoenix:20210408T193000
DTEND;TZID=America/Phoenix:20210408T193000
DTSTAMP:20260423T141959
CREATED:20210406T031448Z
LAST-MODIFIED:20210406T031448Z
UID:14174-1617910200-1617910200@menloparktucson.org
SUMMARY:April 2021 Neighborhood Meeting
DESCRIPTION:Hybrid In-person and Zoom Meeting
URL:https://menloparktucson.org/event/april-2021-neighborhood-meeting/
LOCATION:Menlo Park Elementary School\, 1100 W. Fresno St\, Tucson\, AZ\, 85745\, United States
CATEGORIES:Neighborhood Meeting
END:VEVENT
BEGIN:VEVENT
DTSTART;TZID=America/Phoenix:20191212T180000
DTEND;TZID=America/Phoenix:20191212T193000
DTSTAMP:20260423T141959
CREATED:20191106T192238Z
LAST-MODIFIED:20191106T192238Z
UID:14144-1576173600-1576179000@menloparktucson.org
SUMMARY:December Meeting 2019
DESCRIPTION:
URL:https://menloparktucson.org/event/december-meeting-2019/
LOCATION:Pima County Housing Center – El Banco\, 801 W Congress St.\, Tucson\, AZ\, 85745\, United States
CATEGORIES:Neighborhood Meeting
ORGANIZER;CN="Menlo Park Neighborhood Association":MAILTO:menloparktucson@gmail.com
END:VEVENT
BEGIN:VEVENT
DTSTART;TZID=America/Phoenix:20191114T180000
DTEND;TZID=America/Phoenix:20191114T193000
DTSTAMP:20260423T141959
CREATED:20191106T192157Z
LAST-MODIFIED:20191106T192157Z
UID:14142-1573754400-1573759800@menloparktucson.org
SUMMARY:November Meeting 2019
DESCRIPTION:
URL:https://menloparktucson.org/event/november-meeting-2019/
LOCATION:Pima County Housing Center – El Banco\, 801 W Congress St.\, Tucson\, AZ\, 85745\, United States
CATEGORIES:Neighborhood Meeting
ORGANIZER;CN="Menlo Park Neighborhood Association":MAILTO:menloparktucson@gmail.com
END:VEVENT
BEGIN:VEVENT
DTSTART;TZID=America/Phoenix:20191010T180000
DTEND;TZID=America/Phoenix:20191010T193000
DTSTAMP:20260423T141959
CREATED:20191002T194346Z
LAST-MODIFIED:20191002T194353Z
UID:14134-1570730400-1570735800@menloparktucson.org
SUMMARY:October Meeting 2019
DESCRIPTION:
URL:https://menloparktucson.org/event/october-meeting-2019/
LOCATION:Pima County Housing Center – El Banco\, 801 W Congress St.\, Tucson\, AZ\, 85745\, United States
CATEGORIES:Neighborhood Meeting
ORGANIZER;CN="Menlo Park Neighborhood Association":MAILTO:menloparktucson@gmail.com
END:VEVENT
BEGIN:VEVENT
DTSTART;TZID=America/Phoenix:20190912T180000
DTEND;TZID=America/Phoenix:20190912T200000
DTSTAMP:20260423T141959
CREATED:20190730T225307Z
LAST-MODIFIED:20190911T232657Z
UID:13813-1568311200-1568318400@menloparktucson.org
SUMMARY:September Meeting 2019
DESCRIPTION:
URL:https://menloparktucson.org/event/september-meeting-2019/
LOCATION:Pima County Housing Center – El Banco\, 801 W Congress St.\, Tucson\, AZ\, 85745\, United States
CATEGORIES:Neighborhood Meeting
ORGANIZER;CN="Menlo Park Neighborhood Association":MAILTO:menloparktucson@gmail.com
END:VEVENT
BEGIN:VEVENT
DTSTART;TZID=America/Phoenix:20190809T180000
DTEND;TZID=America/Phoenix:20190809T200000
DTSTAMP:20260423T141959
CREATED:20190730T225223Z
LAST-MODIFIED:20190911T232701Z
UID:13811-1565373600-1565380800@menloparktucson.org
SUMMARY:August Meeting 2019
DESCRIPTION:
URL:https://menloparktucson.org/event/august-meeting-2019/
LOCATION:Pima County Housing Center – El Banco\, 801 W Congress St.\, Tucson\, AZ\, 85745\, United States
CATEGORIES:Neighborhood Meeting
ORGANIZER;CN="Menlo Park Neighborhood Association":MAILTO:menloparktucson@gmail.com
END:VEVENT
END:VCALENDAR