BEGIN:VCALENDAR
VERSION:2.0
PRODID:-//Menlo Park Neighborhood Association - ECPv6.15.1.1//NONSGML v1.0//EN
CALSCALE:GREGORIAN
METHOD:PUBLISH
X-WR-CALNAME:Menlo Park Neighborhood Association
X-ORIGINAL-URL:https://menloparktucson.org
X-WR-CALDESC:Events for Menlo Park Neighborhood Association
REFRESH-INTERVAL;VALUE=DURATION:PT1H
X-Robots-Tag:noindex
X-PUBLISHED-TTL:PT1H
BEGIN:VTIMEZONE
TZID:America/Phoenix
BEGIN:STANDARD
TZOFFSETFROM:-0700
TZOFFSETTO:-0700
TZNAME:MST
DTSTART:20240101T000000
END:STANDARD
END:VTIMEZONE
BEGIN:VEVENT
DTSTART;TZID=America/Phoenix:20240902T060000
DTEND;TZID=America/Phoenix:20240902T100000
DTSTAMP:20260424T143059
CREATED:20240827T151151Z
LAST-MODIFIED:20240827T151151Z
UID:14800-1725256800-1725271200@menloparktucson.org
SUMMARY:El Rio Community Garden Work Day
DESCRIPTION:Join us for a drop-in Community Garden work day this Labor Day\, Monday\, September 2nd\, from 6am to 10am. \nHere’s a list of items needed for the work day\, please sign up! https://www.signupgenius.com/go/10C0D4EAFAA2FA2F9C52-50940590-community#/ \nThe entrance to the Garden is at 34 N. Melwood Ave. \n 
URL:https://menloparktucson.org/event/el-rio-community-garden-work-day/
LOCATION:El Rio Community Garden\, 34 N Melwood Ave\, Tucson\, AZ\, 85745\, United States
CATEGORIES:Events
END:VEVENT
END:VCALENDAR