BEGIN:VCALENDAR
VERSION:2.0
PRODID:-//Menlo Park Neighborhood Association - ECPv6.15.1.1//NONSGML v1.0//EN
CALSCALE:GREGORIAN
METHOD:PUBLISH
X-WR-CALNAME:Menlo Park Neighborhood Association
X-ORIGINAL-URL:https://menloparktucson.org
X-WR-CALDESC:Events for Menlo Park Neighborhood Association
REFRESH-INTERVAL;VALUE=DURATION:PT1H
X-Robots-Tag:noindex
X-PUBLISHED-TTL:PT1H
BEGIN:VTIMEZONE
TZID:America/Phoenix
BEGIN:STANDARD
TZOFFSETFROM:-0700
TZOFFSETTO:-0700
TZNAME:MST
DTSTART:20240101T000000
END:STANDARD
END:VTIMEZONE
BEGIN:VEVENT
DTSTART;VALUE=DATE:20241006
DTEND;VALUE=DATE:20241007
DTSTAMP:20260424T112413
CREATED:20240911T154710Z
LAST-MODIFIED:20240911T154710Z
UID:14823-1728172800-1728259199@menloparktucson.org
SUMMARY:DEADLINE: Order your free trees
DESCRIPTION:Menlo Park Neighborhood Tree Planting
URL:https://menloparktucson.org/event/deadline-order-your-free-trees/
LOCATION:Arizona
END:VEVENT
BEGIN:VEVENT
DTSTART;TZID=America/Phoenix:20241006T070000
DTEND;TZID=America/Phoenix:20241006T100000
DTSTAMP:20260424T112413
CREATED:20240911T154600Z
LAST-MODIFIED:20240911T154600Z
UID:14820-1728198000-1728208800@menloparktucson.org
SUMMARY:El Rio Community Garden Clean-Up Day
DESCRIPTION:
URL:https://menloparktucson.org/event/el-rio-community-garden-clean-up-day/
LOCATION:Arizona
CATEGORIES:Events
END:VEVENT
END:VCALENDAR